<?xml version="1.0" encoding="ISO-8859-1"?>
<!DOCTYPE metadata SYSTEM "http://www.fgdc.gov/metadata/fgdc-std-001-1998.dtd">
<metadata>
	<idinfo>
		<citation>
			<citeinfo>
				<origin>TIMOTHY D. MEEHAN</origin>
				<origin>J. TOMASZ GIERMAKOWSKI</origin>
				<origin>PAUL M. CRYAN</origin>
				<pubdate>2004</pubdate>
				<title Sync="TRUE">gro_seas_ddp.img</title>
				<geoform Sync="TRUE">remote-sensing image</geoform>
				<othercit>Isotopes in Environmental and Health Studies</othercit>
				<onlink Sync="TRUE">\\BUFO\N\JTG\LaCie_Data\projects\DeltaD_Meehan_etal\output\gro_seas_ddp.img</onlink>
				<ftname Sync="TRUE">gro_seas_ddp.img</ftname></citeinfo>
		</citation>
		<descript>
			<abstract>Stable hydrogen isotope ratios of precipitation (dDp) show distinct geographic patterns across North America. Over the last decade, ecologists have utilized growing-season dDp patterns to study the movements of migratory animals. The accuracy and precision of such studies is, in part, contingent upon the accuracy and precision of growing-season dDp maps. Previous mapping efforts have employed simple kriging procedures to produce smooth contour maps of growing-season dDp. We attempted to improve these maps by incorporating the effects of altitude on both dDp values and growing season length. This involved producing elevation-corrected monthly dDp, temperature, and precipitation amount values for 1 km grid cells across the continental United States and Canada using recently developed interpolation procedures. We used a geographic information system (GIS) to calculate a weighted-average growing-season dDp value for each grid cell using dDp and precipitation amount values for all months in which the mean temperature was greater than 0° C. We used seven independent data sets to compare the precision of the resulting altitude-corrected map to another that did not account for altitude. Overall, predicted dDp values from the altitude-corrected map more closely matched observed values and correspondence was more pronounced at finer spatial scales. Digital versions of the GIS-based maps generated during this effort are available via the Internet at http://biology.unm.edu/wolf/precipitationD.htm. These dDp layers can be combined with other types of spatial information, such as species? geographic ranges and habitat associations, to further improve our understanding of animal movements.</abstract>
			<purpose>This grid provides estimates of delta D ratios of growing- season precipitation for most of North America.  It was designed for use by ecologists who estimate continent-scale animal movements based on the hydrogen isotope ratios of their tissues.</purpose>
			<langdata Sync="TRUE">en</langdata></descript>
		<timeperd>
			<timeinfo>
				<sngdate>
					<caldate>2004</caldate>
				</sngdate>
			</timeinfo>
			<current>publication date</current>
		</timeperd>
		<status>
			<progress>Complete</progress>
			<update>None planned</update>
		</status>
		<spdom>
			<bounding>
				<westbc Sync="TRUE">-167.391747</westbc>
				<eastbc Sync="TRUE">-52.616747</eastbc>
				<northbc Sync="TRUE">74.730901</northbc>
				<southbc Sync="TRUE">24.322568</southbc>
			</bounding>
			<lboundng><leftbc Sync="TRUE">-167.391747</leftbc><rightbc Sync="TRUE">-52.616747</rightbc><bottombc Sync="TRUE">24.322568</bottombc><topbc Sync="TRUE">74.730901</topbc></lboundng></spdom>
		<keywords>
			<theme>
				<themekey>precipitation</themekey>
				<themekey>isotope</themekey>
				<themekey>deuterium</themekey>
				<themekey>hydrogen</themekey>
				<themekt>REQUIRED: Reference to a formally registered thesaurus or a similar authoritative source of theme keywords.</themekt></theme>
		</keywords>
		<accconst>none</accconst>
		<useconst>cite as appropriate</useconst>
		<ptcontac>
			<cntinfo>
				<cntperp>
					<cntper>Tim Meehan</cntper>
					<cntorg>University of New Mexico</cntorg>
				</cntperp>
				<cntvoice>001-505-277-9173</cntvoice>
				<cntemail>tdmeehan@unm.edu</cntemail>
			</cntinfo>
		</ptcontac>
		<native Sync="TRUE">Microsoft Windows 2000 Version 5.0 (Build 2195) Service Pack 4; ESRI ArcCatalog 8.3.0.800</native>
		<natvform Sync="TRUE">Raster Dataset</natvform></idinfo>
	<dataqual>
		<lineage>
			<procstep>
				<procdesc>Dataset copied.</procdesc>
			</procstep>
			<procstep>
				<procdesc>Dataset moved.</procdesc>
				<srcused>C:\TEMP\annual_ddp.img</srcused>
			</procstep>
			<procstep><procdesc Sync="TRUE">Metadata imported.</procdesc><srcused Sync="TRUE">C:\Documents and Settings\tom\Desktop\metadata.xml</srcused><date Sync="TRUE">20040311</date><time Sync="TRUE">16473400</time></procstep></lineage>
	</dataqual>
	<spdoinfo>
		<direct Sync="TRUE">Raster</direct>
		<rastinfo>
			<rasttype Sync="TRUE">Pixel</rasttype>
			<rowcount Sync="TRUE">6049</rowcount>
			<colcount Sync="TRUE">13773</colcount>
			<vrtcount Sync="TRUE">1</vrtcount>
			<rastxsz Sync="TRUE">0.008333</rastxsz><rastysz Sync="TRUE">0.008333</rastysz><rastbpp Sync="TRUE">32</rastbpp><rastorig Sync="TRUE">Upper Left</rastorig><rastcmap Sync="TRUE">FALSE</rastcmap><rastcomp Sync="TRUE">None</rastcomp><rastband Sync="TRUE">1</rastband><rastdtyp Sync="TRUE">pixel RGB</rastdtyp><rastplyr Sync="TRUE">TRUE</rastplyr><rastifor Sync="TRUE">ERDAS IMAGINE</rastifor></rastinfo>
	</spdoinfo>
	<spref>
		<horizsys>
			<geograph>
				<geogunit Sync="TRUE">Decimal degrees</geogunit>
			</geograph>
			<geodetic>
				<horizdn Sync="TRUE">D_WGS_1984</horizdn>
				<ellips Sync="TRUE">WGS_1984</ellips>
				<semiaxis Sync="TRUE">6378137.000000</semiaxis>
				<denflat Sync="TRUE">298.257224</denflat>
			</geodetic>
			<cordsysn><geogcsn Sync="TRUE">GCS_WGS_1984</geogcsn></cordsysn></horizsys>
	</spref>
	<distinfo>
		<resdesc>Downloadable Data</resdesc>
		<stdorder>
			<digform>
				<digtinfo>
					<formname>ERDAS</formname>
					<transize Sync="TRUE">0.000</transize>
					<dssize Sync="TRUE">0.000</dssize></digtinfo>
			</digform>
		</stdorder>
	</distinfo>
	<metainfo>
		<metd Sync="TRUE">20040311</metd>
		<metc>
			<cntinfo>
				<cntperp>
					<cntper>Tim Meehan</cntper>
					<cntorg>University of New Mexico</cntorg>
				</cntperp>
				<cntaddr>
					<addrtype>mailing address</addrtype>
					<address>MSC03 2020</address>
					<city>Albuquerque</city>
					<state>New Mexico</state>
					<postal>87131</postal>
					<country>USA</country>
				</cntaddr>
				<cntvoice>001-505-277-9173</cntvoice>
				<cntemail>tdmeehan@unm.edu</cntemail>
			</cntinfo>
		</metc>
		<metstdn Sync="TRUE">FGDC Content Standards for Digital Geospatial Metadata</metstdn>
		<metstdv Sync="TRUE">FGDC-STD-001-1998</metstdv>
		<mettc Sync="TRUE">local time</mettc>
		<metextns>
			<onlink>http://www.esri.com/metadata/esriprof80.html</onlink>
			<metprof>ESRI Metadata Profile</metprof>
		</metextns>
		<langmeta Sync="TRUE">en</langmeta><metextns><onlink Sync="TRUE">http://www.esri.com/metadata/esriprof80.html</onlink><metprof Sync="TRUE">ESRI Metadata Profile</metprof></metextns></metainfo>
	<Esri><MetaID>{FC89366E-7EF4-4828-B724-F6B63F5BAD83}</MetaID><CreaDate>20040311</CreaDate><CreaTime>16473400</CreaTime><SyncOnce>FALSE</SyncOnce><SyncDate>20040311</SyncDate><SyncTime>16473400</SyncTime><ModDate>20040311</ModDate><ModTime>16474500</ModTime></Esri><dataIdInfo><envirDesc Sync="TRUE">Microsoft Windows 2000 Version 5.0 (Build 2195) Service Pack 4; ESRI ArcCatalog 8.3.0.800</envirDesc><dataLang><languageCode Sync="TRUE" value="en"></languageCode></dataLang><idCitation><resTitle Sync="TRUE">gro_seas_ddp.img</resTitle><presForm><PresFormCd Sync="TRUE" value="005"></PresFormCd></presForm></idCitation><spatRpType><SpatRepTypCd Sync="TRUE" value="002"></SpatRepTypCd></spatRpType><dataExt><geoEle><GeoBndBox esriExtentType="native"><westBL Sync="TRUE">-167.391747</westBL><eastBL Sync="TRUE">-52.616747</eastBL><northBL Sync="TRUE">74.730901</northBL><southBL Sync="TRUE">24.322568</southBL><exTypeCode Sync="TRUE">1</exTypeCode></GeoBndBox></geoEle></dataExt><geoBox esriExtentType="decdegrees"><westBL Sync="TRUE">-167.391747</westBL><eastBL Sync="TRUE">-52.616747</eastBL><northBL Sync="TRUE">74.730901</northBL><southBL Sync="TRUE">24.322568</southBL><exTypeCode Sync="TRUE">1</exTypeCode></geoBox></dataIdInfo><mdLang><languageCode Sync="TRUE" value="en"></languageCode></mdLang><mdStanName Sync="TRUE">ISO 19115 Geographic Information - Metadata</mdStanName><mdStanVer Sync="TRUE">DIS_ESRI1.0</mdStanVer><mdChar><CharSetCd Sync="TRUE" value="004"></CharSetCd></mdChar><mdHrLv><ScopeCd Sync="TRUE" value="005"></ScopeCd></mdHrLv><mdHrLvName Sync="TRUE">dataset</mdHrLvName><distInfo><distributor><distorTran><onLineSrc><orDesc Sync="TRUE">002</orDesc><linkage Sync="TRUE">file://\\BUFO\N\JTG\LaCie_Data\projects\DeltaD_Meehan_etal\output\gro_seas_ddp.img</linkage><protocol Sync="TRUE">Local Area Network</protocol></onLineSrc><transSize Sync="TRUE">0.000</transSize></distorTran><distorFormat><formatName Sync="TRUE">Raster Dataset</formatName></distorFormat></distributor></distInfo><refSysInfo><RefSystem><refSysID><identCode Sync="TRUE">GCS_WGS_1984</identCode></refSysID></RefSystem></refSysInfo><spatRepInfo><GridSpatRep><numDims Sync="TRUE">2</numDims><axDimProps><Dimen><dimName><DimNameTypCd Sync="TRUE" value="002"></DimNameTypCd></dimName><dimSize Sync="TRUE">13773</dimSize><dimResol Sync="TRUE">0.008333</dimResol></Dimen><Dimen><dimName><DimNameTypCd Sync="TRUE" value="001"></DimNameTypCd></dimName><dimSize Sync="TRUE">6049</dimSize><dimResol Sync="TRUE">0.008333</dimResol></Dimen></axDimProps><cellGeo><CellGeoCd Sync="TRUE" value="002"></CellGeoCd></cellGeo><tranParaAv Sync="TRUE">1</tranParaAv></GridSpatRep></spatRepInfo><mdDateSt Sync="TRUE">20040311</mdDateSt></metadata>
